BEGIN:VCALENDAR
VERSION:2.0
PRODID:-//Visual Effects Society - ECPv6.15.20//NONSGML v1.0//EN
CALSCALE:GREGORIAN
METHOD:PUBLISH
X-WR-CALNAME:Visual Effects Society
X-ORIGINAL-URL:https://vesglobal.org
X-WR-CALDESC:Events for Visual Effects Society
REFRESH-INTERVAL;VALUE=DURATION:PT1H
X-Robots-Tag:noindex
X-PUBLISHED-TTL:PT1H
BEGIN:VTIMEZONE
TZID:America/Los_Angeles
BEGIN:DAYLIGHT
TZOFFSETFROM:-0800
TZOFFSETTO:-0700
TZNAME:PDT
DTSTART:20090308T100000
END:DAYLIGHT
BEGIN:STANDARD
TZOFFSETFROM:-0700
TZOFFSETTO:-0800
TZNAME:PST
DTSTART:20091101T090000
END:STANDARD
BEGIN:DAYLIGHT
TZOFFSETFROM:-0800
TZOFFSETTO:-0700
TZNAME:PDT
DTSTART:20100314T100000
END:DAYLIGHT
BEGIN:STANDARD
TZOFFSETFROM:-0700
TZOFFSETTO:-0800
TZNAME:PST
DTSTART:20101107T090000
END:STANDARD
BEGIN:DAYLIGHT
TZOFFSETFROM:-0800
TZOFFSETTO:-0700
TZNAME:PDT
DTSTART:20110313T100000
END:DAYLIGHT
BEGIN:STANDARD
TZOFFSETFROM:-0700
TZOFFSETTO:-0800
TZNAME:PST
DTSTART:20111106T090000
END:STANDARD
END:VTIMEZONE
BEGIN:VEVENT
DTSTART;TZID=America/Los_Angeles:20101204T124500
DTEND;TZID=America/Los_Angeles:20101204T124500
DTSTAMP:20260422T045102
CREATED:20101205T044500Z
LAST-MODIFIED:20101205T044500Z
UID:10006564-1291466700-1291466700@vesglobal.org
SUMMARY:Screening - The Empire Strikes Back (Bay Area)
DESCRIPTION:Check-in will begin at 5:45PM\, Q&A will follow at approximately 8:45PM \nIndustrial Light & Magic\n	Lucas Digital Arts Center\, Premiere Theater\n	1 Letterman Drive\, Building B\n	Promenade Level\n	San Francisco\, CA 94129 \nPlease specify your name\, phone number and the names of each of your guests\n	Each VES member is limited to a maximum of three (3) guests.\n	Please RSVP early. Seating will be strictly on a first come\, forst served basis.\n	 
URL:https://vesglobal.org/event/screening-the-empire-strikes-back-bay-area/
LOCATION:NY
CATEGORIES:Event
ATTACH;FMTTYPE=image/jpeg:https://vesglobal.org/wp-content/uploads/2014/07/empire-strikes-back-poster.jpg
END:VEVENT
BEGIN:VEVENT
DTSTART;TZID=America/Los_Angeles:20101211T130000
DTEND;TZID=America/Los_Angeles:20101211T130000
DTSTAMP:20260422T045102
CREATED:20101211T160600Z
LAST-MODIFIED:20101211T160600Z
UID:10006573-1292072400-1292072400@vesglobal.org
SUMMARY:Screening - Harry Potter and the Deathly Hallows Part 1 (Bay Area)
DESCRIPTION:Saturday\, December 11th at 2:00PM\n	1200 Park Avenue\n	Emeryville\, CA 94608
URL:https://vesglobal.org/event/screening-harry-potter-and-the-deathly-hallows-part-1-bay-area-2/
LOCATION:NY
CATEGORIES:Event
ATTACH;FMTTYPE=image/jpeg:https://vesglobal.org/wp-content/uploads/2014/07/mv5bmtq2ote1mjk0n15bml5banbnxkftztcwode3mdawna_v1_sy317_cr00214317_al_.jpg
END:VEVENT
BEGIN:VEVENT
DTSTART;TZID=America/Los_Angeles:20101211T131500
DTEND;TZID=America/Los_Angeles:20101211T131500
DTSTAMP:20260422T045102
CREATED:20101211T160900Z
LAST-MODIFIED:20101211T160900Z
UID:10006574-1292073300-1292073300@vesglobal.org
SUMMARY:Sscreening - Harry Potter and the Deathly Hallows Part 1 (Vancouver)
DESCRIPTION:Saturday\, December 11th at 2:00PM\n	The Vancity Theatre\n	1181 Seymour Street\n	Vancouver\, BC V6B 3M7
URL:https://vesglobal.org/event/sscreening-harry-potter-and-the-deathly-hallows-part-1-vancouver/
LOCATION:NY
CATEGORIES:Event
ATTACH;FMTTYPE=image/jpeg:https://vesglobal.org/wp-content/uploads/2014/07/mv5bmtq2ote1mjk0n15bml5banbnxkftztcwode3mdawna_v1_sy317_cr00214317_al__0.jpg
END:VEVENT
BEGIN:VEVENT
DTSTART;TZID=America/Los_Angeles:20101211T150000
DTEND;TZID=America/Los_Angeles:20101211T150000
DTSTAMP:20260422T045102
CREATED:20101211T160400Z
LAST-MODIFIED:20101211T160400Z
UID:10006592-1292079600-1292079600@vesglobal.org
SUMMARY:Screening - HARRY POTTER AND THE DEATHLY HALLOWS: PART 1 (Vancouver)
DESCRIPTION:Saturday\, December 11th at 2:00PM\n	The Vancity Theatre\n	1181 Seymour Street\n	Vancouver\, BC V6B 3M7
URL:https://vesglobal.org/event/screening-harry-potter-and-the-deathly-hallows-part-1-vancouver/
LOCATION:NY
CATEGORIES:Event
ATTACH;FMTTYPE=image/jpeg:https://vesglobal.org/wp-content/uploads/2014/07/harry_potter_0.jpg
END:VEVENT
BEGIN:VEVENT
DTSTART;TZID=America/Los_Angeles:20101211T150000
DTEND;TZID=America/Los_Angeles:20101211T150000
DTSTAMP:20260422T045102
CREATED:20101211T165900Z
LAST-MODIFIED:20101211T165900Z
UID:10006591-1292079600-1292079600@vesglobal.org
SUMMARY:Screening - HARRY POTTER AND THE DEATHLY HALLOWS: PART 1 (Bay Area)
DESCRIPTION:Saturday\, December 11th at 2:00PM\n	1200 Park Avenue\n	Emeryville\, CA 94608\n	(Enter from 45th Street between Hollis Street & San Pablo Avenue)
URL:https://vesglobal.org/event/screening-harry-potter-and-the-deathly-hallows-part-1-bay-area-3/
LOCATION:NY
CATEGORIES:Event
ATTACH;FMTTYPE=image/jpeg:https://vesglobal.org/wp-content/uploads/2014/07/harry_potter.jpg
END:VEVENT
BEGIN:VEVENT
DTSTART;TZID=America/Los_Angeles:20101219T123000
DTEND;TZID=America/Los_Angeles:20101219T123000
DTSTAMP:20260422T045102
CREATED:20101219T163100Z
LAST-MODIFIED:20101219T163100Z
UID:10006560-1292761800-1292761800@vesglobal.org
SUMMARY:Screening - Tron: Legacy (Bay Area)
DESCRIPTION:Please specify your name\, phone number and the names of each of your guests as well as which screening you wish to attend. \nPixar Animation Studios Theater\n	1200 Park Avenue\n	Emeryville\, CA 94608\n	 
URL:https://vesglobal.org/event/screening-tron-legacy-bay-area/
LOCATION:NY
CATEGORIES:Event
ATTACH;FMTTYPE=image/jpeg:https://vesglobal.org/wp-content/uploads/2014/07/tron_legacy_one_sheet_10.19.10_0-scaled.jpg
END:VEVENT
END:VCALENDAR