BEGIN:VCALENDAR
VERSION:2.0
PRODID:-//Visual Effects Society - ECPv6.15.20//NONSGML v1.0//EN
CALSCALE:GREGORIAN
METHOD:PUBLISH
X-ORIGINAL-URL:https://vesglobal.org
X-WR-CALDESC:Events for Visual Effects Society
REFRESH-INTERVAL;VALUE=DURATION:PT1H
X-Robots-Tag:noindex
X-PUBLISHED-TTL:PT1H
BEGIN:VTIMEZONE
TZID:America/Los_Angeles
BEGIN:DAYLIGHT
TZOFFSETFROM:-0800
TZOFFSETTO:-0700
TZNAME:PDT
DTSTART:20080309T100000
END:DAYLIGHT
BEGIN:STANDARD
TZOFFSETFROM:-0700
TZOFFSETTO:-0800
TZNAME:PST
DTSTART:20081102T090000
END:STANDARD
BEGIN:DAYLIGHT
TZOFFSETFROM:-0800
TZOFFSETTO:-0700
TZNAME:PDT
DTSTART:20090308T100000
END:DAYLIGHT
BEGIN:STANDARD
TZOFFSETFROM:-0700
TZOFFSETTO:-0800
TZNAME:PST
DTSTART:20091101T090000
END:STANDARD
BEGIN:DAYLIGHT
TZOFFSETFROM:-0800
TZOFFSETTO:-0700
TZNAME:PDT
DTSTART:20100314T100000
END:DAYLIGHT
BEGIN:STANDARD
TZOFFSETFROM:-0700
TZOFFSETTO:-0800
TZNAME:PST
DTSTART:20101107T090000
END:STANDARD
END:VTIMEZONE
BEGIN:VEVENT
DTSTART;TZID=America/Los_Angeles:20091111T003000
DTEND;TZID=America/Los_Angeles:20091111T003000
DTSTAMP:20260422T222845
CREATED:20091111T162400Z
LAST-MODIFIED:20091111T162400Z
UID:10006597-1257899400-1257899400@vesglobal.org
SUMMARY:Screening - Fantastic Mr. Fox (New York)
DESCRIPTION:GUILD MEMBER SCREENING:\n	Wednesday\, November 11th – 7:30PM\n	Directors Guild of America Theater\n	110 West 57th Street\n	New York\, NY 10019 \nQ&A to follow with director Wes Anderson\n	Please RSVP to (212) 556-8282 \nThis screening will be monitored for unauthorized recording.  By attending\, you agree not to bring any recording device into the theatre and you consent to physical search of your belongings and person for recording devices. If you attempt to enter with a recording device\, you will be denied admission.  If you attempt to use a recording device\, you consent to your immediate removal from the theatre and forfeiture of the device. Unauthorized recording will be reported to law enforcement and may subject you to criminal and civil liability. Screening paid for by Fox Searchlight Pictures.
URL:https://vesglobal.org/event/screening-fantastic-mr-fox-new-york/
LOCATION:NY
CATEGORIES:Event
ATTACH;FMTTYPE=image/jpeg:https://vesglobal.org/wp-content/uploads/2014/07/fantastic_mr_fox1.jpg
END:VEVENT
BEGIN:VEVENT
DTSTART;TZID=America/Los_Angeles:20091112T151500
DTEND;TZID=America/Los_Angeles:20091112T151500
DTSTAMP:20260422T222845
CREATED:20091112T161700Z
LAST-MODIFIED:20091112T161700Z
UID:10006595-1258038900-1258038900@vesglobal.org
SUMMARY:Screening - The Hurt Locker (New York)
DESCRIPTION:NEW YORK\n	Thursday\, November 12th\n	DGA Theater\n	6:00PM\n	Followed by a Q&A with Director Kathryn Bigelow and\n	Screenwriter Mark Boal\n	110 West 57th Street
URL:https://vesglobal.org/event/screening-the-hurt-locker-new-york/
LOCATION:NY
CATEGORIES:Event
ATTACH;FMTTYPE=image/jpeg:https://vesglobal.org/wp-content/uploads/2014/07/the_hurt_locker_0.jpg
END:VEVENT
BEGIN:VEVENT
DTSTART;TZID=America/Los_Angeles:20091117T154500
DTEND;TZID=America/Los_Angeles:20091117T154500
DTSTAMP:20260422T222845
CREATED:20091117T164200Z
LAST-MODIFIED:20091117T164200Z
UID:10006191-1258472700-1258472700@vesglobal.org
SUMMARY:Screening - Coraline (New York)
DESCRIPTION:Immediately following the screening\, there wil be a Q & A with writer/director/producer Henry Selick  \nUnion Square Stadium 14 \n850 Broadway  \nPlease RSVP to 212-358-4760  \nThisinvitation os non-transferable.  \nSeating is limited and on a first-come first serve basis. 
URL:https://vesglobal.org/event/screening-coraline-new-york/
LOCATION:NY
CATEGORIES:Event
ATTACH;FMTTYPE=image/jpeg:https://vesglobal.org/wp-content/uploads/2014/07/coraline_0.jpg
END:VEVENT
END:VCALENDAR