BEGIN:VCALENDAR
VERSION:2.0
PRODID:-//Visual Effects Society - ECPv6.15.20//NONSGML v1.0//EN
CALSCALE:GREGORIAN
METHOD:PUBLISH
X-WR-CALNAME:Visual Effects Society
X-ORIGINAL-URL:https://vesglobal.org
X-WR-CALDESC:Events for Visual Effects Society
REFRESH-INTERVAL;VALUE=DURATION:PT1H
X-Robots-Tag:noindex
X-PUBLISHED-TTL:PT1H
BEGIN:VTIMEZONE
TZID:America/Los_Angeles
BEGIN:DAYLIGHT
TZOFFSETFROM:-0800
TZOFFSETTO:-0700
TZNAME:PDT
DTSTART:20080309T100000
END:DAYLIGHT
BEGIN:STANDARD
TZOFFSETFROM:-0700
TZOFFSETTO:-0800
TZNAME:PST
DTSTART:20081102T090000
END:STANDARD
BEGIN:DAYLIGHT
TZOFFSETFROM:-0800
TZOFFSETTO:-0700
TZNAME:PDT
DTSTART:20090308T100000
END:DAYLIGHT
BEGIN:STANDARD
TZOFFSETFROM:-0700
TZOFFSETTO:-0800
TZNAME:PST
DTSTART:20091101T090000
END:STANDARD
BEGIN:DAYLIGHT
TZOFFSETFROM:-0800
TZOFFSETTO:-0700
TZNAME:PDT
DTSTART:20100314T100000
END:DAYLIGHT
BEGIN:STANDARD
TZOFFSETFROM:-0700
TZOFFSETTO:-0800
TZNAME:PST
DTSTART:20101107T090000
END:STANDARD
END:VTIMEZONE
BEGIN:VEVENT
DTSTART;TZID=America/Los_Angeles:20091029T154500
DTEND;TZID=America/Los_Angeles:20091029T154500
DTSTAMP:20260422T234844
CREATED:20091029T144700Z
LAST-MODIFIED:20091029T144700Z
UID:10006192-1256831100-1256831100@vesglobal.org
SUMMARY:Screening - CLOUDY WITH A CHANCE OF MEATBALLS (Vancouver)
DESCRIPTION:Vancouver \n  \nThursday\, October 29th \n  \nTechnicolor – Vancouver \n916 Davie Street \nVancouver\, BC V6Z1B8 \n7:00pm (doors open at 6:30) \n  \nTo RSVP click here \n 
URL:https://vesglobal.org/event/screening-cloudy-with-a-chance-of-meatballs-vancouver/
LOCATION:NY
CATEGORIES:Event
ATTACH;FMTTYPE=image/jpeg:https://vesglobal.org/wp-content/uploads/2014/07/cloudy.jpg
END:VEVENT
BEGIN:VEVENT
DTSTART;TZID=America/Los_Angeles:20091031T154500
DTEND;TZID=America/Los_Angeles:20091031T154500
DTSTAMP:20260422T234844
CREATED:20091031T140000Z
LAST-MODIFIED:20091031T140000Z
UID:10006193-1257003900-1257003900@vesglobal.org
SUMMARY:Screening - Transformers (London)
DESCRIPTION:Paramount Pictures UK invites you to experience the IMAX version of Michael Bay’s rip-roaring action thriller at a \n	SPECIAL HALF-TERM SCREENING \n	SATURDAY 31 OCTOBER\n	Doors open 9.15 for a 10.00am film start \n	BFI IMAX\n	1 Charlie Chaplin Walk\n	South Bank\n	Waterloo\n	London SE1 8XR \nDirected by Michael Bay\n	Starring Shia LaBeouf\, Megan Fox\, Josh Duhamel\, Tyrese Gibson\, Kevin Dunn\, Julie White\,\n	John Benjamin Hickey\, Ramon Rodriguez\, Isabel Lucas and John Turturro \nIn “Transformers: Revenge of the Fallen\,” Sam Witwicky (Shia LaBeouf) again joins with the Autobots® against their sworn enemies\, the Decepticons®. \nMichael Bay directs from a screenplay by Ehren Kruger & Roberto Orci & Alex Kurtzman. \nRunning time: 150 mins\n	Cert: 12A
URL:https://vesglobal.org/event/screening-transformers-london/
LOCATION:NY
CATEGORIES:Event
ATTACH;FMTTYPE=image/jpeg:https://vesglobal.org/wp-content/uploads/2014/07/transformers-revenge-fallen.jpg
END:VEVENT
END:VCALENDAR