BEGIN:VCALENDAR
VERSION:2.0
PRODID:-//Visual Effects Society - ECPv6.15.20//NONSGML v1.0//EN
CALSCALE:GREGORIAN
METHOD:PUBLISH
X-ORIGINAL-URL:https://vesglobal.org
X-WR-CALDESC:Events for Visual Effects Society
REFRESH-INTERVAL;VALUE=DURATION:PT1H
X-Robots-Tag:noindex
X-PUBLISHED-TTL:PT1H
BEGIN:VTIMEZONE
TZID:America/Los_Angeles
BEGIN:DAYLIGHT
TZOFFSETFROM:-0800
TZOFFSETTO:-0700
TZNAME:PDT
DTSTART:20080309T100000
END:DAYLIGHT
BEGIN:STANDARD
TZOFFSETFROM:-0700
TZOFFSETTO:-0800
TZNAME:PST
DTSTART:20081102T090000
END:STANDARD
BEGIN:DAYLIGHT
TZOFFSETFROM:-0800
TZOFFSETTO:-0700
TZNAME:PDT
DTSTART:20090308T100000
END:DAYLIGHT
BEGIN:STANDARD
TZOFFSETFROM:-0700
TZOFFSETTO:-0800
TZNAME:PST
DTSTART:20091101T090000
END:STANDARD
BEGIN:DAYLIGHT
TZOFFSETFROM:-0800
TZOFFSETTO:-0700
TZNAME:PDT
DTSTART:20100314T100000
END:DAYLIGHT
BEGIN:STANDARD
TZOFFSETFROM:-0700
TZOFFSETTO:-0800
TZNAME:PST
DTSTART:20101107T090000
END:STANDARD
END:VTIMEZONE
BEGIN:VEVENT
DTSTART;TZID=America/Los_Angeles:20090529T204500
DTEND;TZID=America/Los_Angeles:20090529T214500
DTSTAMP:20260423T075810
CREATED:20090529T144800Z
LAST-MODIFIED:20090529T144800Z
UID:10006745-1243629900-1243633500@vesglobal.org
SUMMARY:Screening - Terminator Salvation
DESCRIPTION:The Visual Effects Society San Francisco/Bay Area cordially invites VES Members (plus 1 guest each) to a special screening and FX Panel discussion of  \nTerminator Salvatio: \nWhen: Friday 05/29/09 @ 8:45- 9:45 Panel Discussion \nWhere: Industrial Light & Magic\, Lucas Digital Ltd. \nPremiere theatre\, Letterman Digital Arts Cents \n1 Letterman Dr. Building B \nSan Francisco CA\, 94129 \n  \nPanel Discussion guests to includeL \nCharlie Gibson-T4 FX Supervisor \nBen Snow- Industrial Light & Magic \nBrian Gernand- Kerner Optical \nJonathan Harp- Whiskey Tree \nJohn Fragomeni- Asylum \n  \nAll Attendees are welcome to “The Final Final” Sports bar (2990 Baker St.) after the event for an informal gathering. 
URL:https://vesglobal.org/event/screening-terminator-salvation/
LOCATION:NY
CATEGORIES:Event
ATTACH;FMTTYPE=image/jpeg:https://vesglobal.org/wp-content/uploads/2014/07/terminator-salvation-poster.jpg
END:VEVENT
END:VCALENDAR