BEGIN:VCALENDAR
VERSION:2.0
PRODID:-//Visual Effects Society - ECPv6.15.20//NONSGML v1.0//EN
CALSCALE:GREGORIAN
METHOD:PUBLISH
X-WR-CALNAME:Visual Effects Society
X-ORIGINAL-URL:https://vesglobal.org
X-WR-CALDESC:Events for Visual Effects Society
REFRESH-INTERVAL;VALUE=DURATION:PT1H
X-Robots-Tag:noindex
X-PUBLISHED-TTL:PT1H
BEGIN:VTIMEZONE
TZID:America/Los_Angeles
BEGIN:DAYLIGHT
TZOFFSETFROM:-0800
TZOFFSETTO:-0700
TZNAME:PDT
DTSTART:20250309T100000
END:DAYLIGHT
BEGIN:STANDARD
TZOFFSETFROM:-0700
TZOFFSETTO:-0800
TZNAME:PST
DTSTART:20251102T090000
END:STANDARD
BEGIN:DAYLIGHT
TZOFFSETFROM:-0800
TZOFFSETTO:-0700
TZNAME:PDT
DTSTART:20260308T100000
END:DAYLIGHT
BEGIN:STANDARD
TZOFFSETFROM:-0700
TZOFFSETTO:-0800
TZNAME:PST
DTSTART:20261101T090000
END:STANDARD
BEGIN:DAYLIGHT
TZOFFSETFROM:-0800
TZOFFSETTO:-0700
TZNAME:PDT
DTSTART:20270314T100000
END:DAYLIGHT
BEGIN:STANDARD
TZOFFSETFROM:-0700
TZOFFSETTO:-0800
TZNAME:PST
DTSTART:20271107T090000
END:STANDARD
END:VTIMEZONE
BEGIN:VEVENT
DTSTART;TZID=America/Los_Angeles:20260424T190000
DTEND;TZID=America/Los_Angeles:20260424T220000
DTSTAMP:20260424T030758
CREATED:20260419T024911Z
LAST-MODIFIED:20260419T030338Z
UID:10011692-1777057200-1777068000@vesglobal.org
SUMMARY:VES Oregon - 2026 Spring Pub Night at Ickabod’s
DESCRIPTION:VES Oregon – 2026 Spring Pub Night at Ickabod’s \nWelcome all VES Oregon Section Members! Spring is in full swing\, and that means it’s time to grab a drink and catch up with your fellow VFX artists. Join us on Friday\, April 24th at 7pm at Ickabod’s in Beaverton for a relaxed evening of good conversation and cold drinks. Your first drink is on us – see you there! \nFriday\, April 24\, 2026 \n7:00 PM – 10:00 PM \nIckabod’s\n12475 SW 1st Street\nBeaverton\, OR
URL:https://vesglobal.org/event/ves-oregon-2026-spring-pub-night-at-ickabods/
LOCATION:Ickabod’s\, 12475 SW 1st Street\, Beaverton\, United States
CATEGORIES:Pub Night
ATTACH;FMTTYPE=image/jpeg:https://vesglobal.org/wp-content/uploads/2024/08/fbf04259-22e1-4e90-b1b3-6aeacbd27189.jpeg
END:VEVENT
END:VCALENDAR