BEGIN:VCALENDAR
VERSION:2.0
PRODID:-//Visual Effects Society - ECPv6.15.20//NONSGML v1.0//EN
CALSCALE:GREGORIAN
METHOD:PUBLISH
X-WR-CALNAME:Visual Effects Society
X-ORIGINAL-URL:https://vesglobal.org
X-WR-CALDESC:Events for Visual Effects Society
REFRESH-INTERVAL;VALUE=DURATION:PT1H
X-Robots-Tag:noindex
X-PUBLISHED-TTL:PT1H
BEGIN:VTIMEZONE
TZID:Europe/London
BEGIN:DAYLIGHT
TZOFFSETFROM:+0000
TZOFFSETTO:+0100
TZNAME:BST
DTSTART:20250330T010000
END:DAYLIGHT
BEGIN:STANDARD
TZOFFSETFROM:+0100
TZOFFSETTO:+0000
TZNAME:GMT
DTSTART:20251026T010000
END:STANDARD
BEGIN:DAYLIGHT
TZOFFSETFROM:+0000
TZOFFSETTO:+0100
TZNAME:BST
DTSTART:20260329T010000
END:DAYLIGHT
BEGIN:STANDARD
TZOFFSETFROM:+0100
TZOFFSETTO:+0000
TZNAME:GMT
DTSTART:20261025T010000
END:STANDARD
BEGIN:DAYLIGHT
TZOFFSETFROM:+0000
TZOFFSETTO:+0100
TZNAME:BST
DTSTART:20270328T010000
END:DAYLIGHT
BEGIN:STANDARD
TZOFFSETFROM:+0100
TZOFFSETTO:+0000
TZNAME:GMT
DTSTART:20271031T010000
END:STANDARD
END:VTIMEZONE
BEGIN:VEVENT
DTSTART;TZID=Europe/London:20260422T183000
DTEND;TZID=Europe/London:20260422T213000
DTSTAMP:20260422T015321
CREATED:20260330T191102Z
LAST-MODIFIED:20260416T083619Z
UID:10011667-1776882600-1776893400@vesglobal.org
SUMMARY:The Art of Simulation:  Sims in Action
DESCRIPTION:DUE TO A PLANNED PUBLIC TRANSPORT STRIKE\, THIS EVENT WILL BE POSTPONED. PLEASE CHECK THIS PAGE FOR UPDATES. SORRY FOR THE INCONVENIENCE.\nThe complexity of modern day VFX relies on advanced procedural modelling\, animation\, effects – in fact the simulation of modern physics and optics. Whether its explosions and blazing fires\, smoke\, rain\, molten lava or vast tsunamis of water\, or giant shards of metal and concrete as whole cities get razed to the ground\, Filmmakers are demanding increasingly spectacular and convincing ways ensure the viewer maintains the suspension of disbelief.\nWe’ve gathered a panel of experts to tell us how such effects are designed and created\, and to explain fluid dynamics\, procedural workflows\, particle systems and how this area might be changing. \nJoin us !
URL:https://vesglobal.org/event/the-art-of-simulation-sims-in-action/
LOCATION:mosaic@soho Ingestre Place London W1F 0HS\, Mosaic@soho - Ingestre Place\, London\, London\, W1F 0HS\, United Kingdom
CATEGORIES:Educational,Event
ATTACH;FMTTYPE=image/jpeg:https://vesglobal.org/wp-content/uploads/2026/03/TheartOfSimulation_icon.jpg
ORGANIZER;CN="London":MAILTO:info@ves.london
END:VEVENT
END:VCALENDAR